BEGIN:VCALENDAR
VERSION:2.0
PRODID:-//Associazione A.N.Co.Re. - ECPv6.15.1.1//NONSGML v1.0//EN
CALSCALE:GREGORIAN
METHOD:PUBLISH
X-ORIGINAL-URL:https://ancore.dileowebagency.com
X-WR-CALDESC:Eventi per Associazione A.N.Co.Re.
REFRESH-INTERVAL;VALUE=DURATION:PT1H
X-Robots-Tag:noindex
X-PUBLISHED-TTL:PT1H
BEGIN:VTIMEZONE
TZID:UTC
BEGIN:STANDARD
TZOFFSETFROM:+0000
TZOFFSETTO:+0000
TZNAME:UTC
DTSTART:20250101T000000
END:STANDARD
END:VTIMEZONE
BEGIN:VEVENT
DTSTART;TZID=UTC:20250910T080000
DTEND;TZID=UTC:20250910T170000
DTSTAMP:20260420T190946
CREATED:20250908T110727Z
LAST-MODIFIED:20250908T110727Z
UID:10000001-1757491200-1757523600@ancore.dileowebagency.com
SUMMARY:Evento prova 1
DESCRIPTION:Descrizione dell’evento con tutti i dettagli
URL:https://ancore.dileowebagency.com/evento/evento-prova-1/
ATTACH;FMTTYPE=image/jpeg:https://ancore.dileowebagency.com/wp-content/uploads/2025/08/image-6.jpg
END:VEVENT
END:VCALENDAR